BEGIN:VCALENDAR
PRODID:-//Calendar export
VERSION:2.0
X-WR-TIMEZONE:Etc/GMT
BEGIN:VTIMEZONE
TZID:GMT Standard Time
BEGIN:STANDARD
TZOFFSETFROM:+0000
TZOFFSETTO:+0000
END:STANDARD
END:VTIMEZONE
BEGIN:VEVENT
UID:AE129
DTSTAMP:20260423T073900Z
SUMMARY:Picking a Model for Your Team and Product May 11, 2026.
CLASS:PUBLIC
DESCRIPTION:

Picking a Model for Your Team or Product  May 11\, 2026 

 
Live workshop
  on May 11\, 2026 (3:00 PM – 5:00 PM PST). Learn how to select the right 
 Agile model to fit your team’s context\, product\, and constraints.


 

STATUS:CONFIRMED
PRIORITY:1
DTSTART:20260511T220000Z
DTEND:20260512T000000Z
TRANSP:OPAQUE
END:VEVENT
END:VCALENDAR
