BEGIN:VCALENDAR
PRODID:-//Calendar export
VERSION:2.0
X-WR-TIMEZONE:Etc/GMT
BEGIN:VTIMEZONE
TZID:GMT Standard Time
BEGIN:STANDARD
TZOFFSETFROM:+0000
TZOFFSETTO:+0000
END:STANDARD
END:VTIMEZONE
BEGIN:VEVENT
UID:AE128
DTSTAMP:20260422T072300Z
SUMMARY:AI-Assisted Sprint Planning - May 22 - 10 AM Pacific
CLASS:PUBLIC
DESCRIPTION:In the AI-Assisted Sprint Planning Live Session\, you'll se
 e how AI can s
 upport one of the most important Scrum events.

STATUS:CONFIRMED
PRIORITY:1
DTSTART:20260522T170000Z
DTEND:20260522T190000Z
TRANSP:OPAQUE
END:VEVENT
END:VCALENDAR
